Workbook

Sheet Assumptions
A1: Your Aesthetic Practice
A2: Service limited to: Botox, Filler, Sclerotherapy, Laser Hair Removal, IPL treatment, Microdermabrasion, Facials
A3: ONLY Change data in yellow boxes)
A5: Last update: | C5: Assumptions sheet
A6: =NOW() -> 40695.027
A7: Company Name:
A8: dba of site:
A9: Address of site:
A11: Population within 20 miles: | D11: 2500042
A12: Traffic draw area: | C12: 5+ mile radius
A13: Population within 20 mile area: | C13: 2500042
A14: Monthly drive by traffic:
A15: Monthly walk by traffic:
A16: Avg. household income: | C16: 63583
A17: Average Age of population. | C17: 36.7
A18: % caucasian | C18: =C$13*D18 -> 1607527 | D18: 0.643
A19: % Black | C19: =C13*D19 -> 587509.87 | D19: 0.235
A20: % Asian | C20: =C25*D20 -> 7750.1302 | D20: 0.01
A21: % Hispanic | C21: =C25*D21 -> 73626.237 | D21: 0.095
A22: % other | C22: =C$13*D22 -> 42500.714 | D22: =1-(D18+D19+D20+D21) -> 0.017
A23: Primary target market population: | C23: =SUM(C18:C21) -> 2276413.2 | D23: =SUM(D18:D21) -> 0.983
A25: # women 25-55 years old: | C25: =C$13*D25 -> 775013.02 | D25: 0.31
A28: Competition:
B29: 1
B30: 2
B31: 3
B32: 4
B33: 5 | C33: various private practice physicians
B36: Financial factors: | C36: Office rent | D36: 50 | E36: per square foot per year
C37: Office square feet | D37: 500
C38: Cost per Square foot/build out | D38: 75
B41: Major equipment, est. cost and use:
A42: YEAR 1 | B42: YEAR 2 | C42: equipment | D42: year 1 | E42: year 2
A43: =[1]Equip!M16 -> 1 | B43: =[1]Equip!T16 -> 1 | C43: Hair laser | D43: 30500 | E43: 0 | F43: USED
A44: =[1]Equip!M36 -> 1 | B44: =[1]Equip!AA36 -> 1 | C44: IPL | D44: 30000 | E44: 0 | F44: USED
A45: =[1]Equip!M56 -> 1 | B45: =[1]Equip!T56 -> 1 | C45: Microdermabrator diamond tip | D45: 4600 | E45: 0 | F45: USED
A46: 1 | B46: 1 | C46: Computer system | D46: 2000 | E46: 0 | F46: hardware/software
A47: 1 | B47: 1 | C47: Telephony system | D47: 0 | E47: 0 | F47: simple system
A48: 1 | B48: 1 | C48: CC machine | D48: 200 | E48: 0
A49: 8 | B49: 8 | C49: Floor lamps | D49: 800 | E49: 0 | F49: 5000K Ott Lamps
...

Sheet Labor
A1: Labor Projection
A2: Enter your Company Name here
A3: DO NOT CHANGE ANY DATA HERE
A5: Fiscal Year Begins
A6: 41275
C8: =A6 -> 41275 | D8: =DATE(YEAR(A6),MONTH(A6)+1,1) -> 41306 | E8: =DATE(YEAR(D8),MONTH(D8)+1,1) -> 41334 | F8: =DATE(YEAR(E8),MONTH(E8)+1,1) -> 41365 | G8: =DATE(YEAR(F8),MONTH(F8)+1,1) -> 41395 | H8: =DATE(YEAR(G8),MONTH(G8)+1,1) -> 41426 | I8: =DATE(YEAR(H8),MONTH(H8)+1,1) -> 41456 | J8: =DATE(YEAR(I8),MONTH(I8)+1,1) -> 41487 | K8: =DATE(YEAR(J8),MONTH(J8)+1,1) -> 41518 | L8: =DATE(YEAR(K8),MONTH(K8)+1,1) -> 41548 | ... N8: =DATE(YEAR(M8),MONTH(M8)+1,1) -> 41609 | O8: YEARLY
A9: PA/NP Hours per Month
A10: Botox | C10: =Assumptions!D164*Assumptions!D135*0.5 -> 10.62 | D10: =Assumptions!G$139*C10 -> 11.4696 | E10: =D10*Assumptions!G$139 -> 12.387168 | F10: =Assumptions!G$139*E10 -> 13.378141 | G10: =Assumptions!G$139*F10 -> 14.448393 | H10: =Assumptions!G$139*G10 -> 15.604264 | I10: =Assumptions!G$139*H10 -> 16.852605 | J10: =Assumptions!G$139*I10 -> 18.200814 | K10: =Assumptions!G$139*J10 -> 19.656879 | L10: =Assumptions!G$139*K10 -> 21.229429 | M10: =Assumptions!G$139*L10 -> 22.927783 | N10: =Assumptions!G$139*M10 -> 24.762006 | O10: =SUM(N10,M10,L10,K10,J10,I10,H10,G10,F10,E10,D10,C10) -> 201.53708 | Q10: Assume each procedure takes 1/2 hour
A11: Filler | C11: =Assumptions!D165*Assumptions!D135*0.5 -> 7.08 | D11: =Assumptions!G$139*C11 -> 7.6464 | E11: =D11*Assumptions!G$139 -> 8.258112 | F11: =Assumptions!G$139*E11 -> 8.918761 | G11: =Assumptions!G$139*F11 -> 9.6322618 | H11: =Assumptions!G$139*G11 -> 10.402843 | I11: =Assumptions!G$139*H11 -> 11.23507 | J11: =Assumptions!G$139*I11 -> 12.133876 | K11: =Assumptions!G$139*J11 -> 13.104586 | L11: =Assumptions!G$139*K11 -> 14.152953 | M11: =Assumptions!G$139*L11 -> 15.285189 | N11: =Assumptions!G$139*M11 -> 16.508004 | O11: =SUM(N11,M11,L11,K11,J11,I11,H11,G11,F11,E11,D11,C11) -> 134.35806
A12: Sclero | C12: =Assumptions!D135*0.5*Assumptions!D166 -> 3.54 | D12: =Assumptions!G$139*C12 -> 3.8232 | E12: =D12*Assumptions!G$139 -> 4.129056 | F12: =Assumptions!G$139*E12 -> 4.4593805 | G12: =Assumptions!G$139*F12 -> 4.8161309 | H12: =Assumptions!G$139*G12 -> 5.2014214 | I12: =Assumptions!G$139*H12 -> 5.6175351 | J12: =Assumptions!G$139*I12 -> 6.0669379 | K12: =Assumptions!G$139*J12 -> 6.5522929 | L12: =Assumptions!G$139*K12 -> 7.0764764 | M12: =Assumptions!G$139*L12 -> 7.6425945 | N12: =Assumptions!G$139*M12 -> 8.254002 | O12: =SUM(N12,M12,L12,K12,J12,I12,H12,G12,F12,E12,D12,C12) -> 67.179028
A13: Laser Hair | C13: =Assumptions!D167*Assumptions!D135*0.5 -> 5.31 | D13: =Assumptions!G$139*C13 -> 5.7348 | E13: =D13*Assumptions!G$139 -> 6.193584 | F13: =Assumptions!G$139*E13 -> 6.6890707 | G13: =Assumptions!G$139*F13 -> 7.2241964 | H13: =Assumptions!G$139*G13 -> 7.8021321 | I13: =Assumptions!G$139*H13 -> 8.4263027 | J13: =Assumptions!G$139*I13 -> 9.1004069 | K13: =Assumptions!G$139*J13 -> 9.8284394 | L13: =Assumptions!G$139*K13 -> 10.614715 | M13: =Assumptions!G$139*L13 -> 11.463892 | N13: =Assumptions!G$139*M13 -> 12.381003 | O13: =SUM(N13,M13,L13,K13,J13,I13,H13,G13,F13,E13,D13,C13) -> 100.76854
A14: Laser Hair Pre-pay Balance | D14: =C13 -> 5.31 | E14: =D14+D13 -> 11.0448 | F14: =C13+D13+E13 -> 17.238384 | G14: =C13+D13+E13+F13 -> 23.927455 | H14: =C13+D13+E13+F13+G13 -> 31.151651 | I14: =D13+E13+F13+G13+H13 -> 33.643783 | J14: =E13+F13+G13+H13+I13 -> 36.335286 | K14: =F13+G13+H13+I13+J13 -> 39.242109 | L14: =G13+H13+I13+J13+K13 -> 42.381477 | M14: =H13+I13+J13+K13+L13 -> 45.771996 | N14: =I13+J13+K13+L13+M13 -> 49.433755 | O14: =SUM(N14,M14,L14,K14,J14,I14,H14,G14,F14,E14,D14,C14) -> 335.4807
A15: IPL | C15: =Assumptions!D135*0.5*Assumptions!D168 -> 1.77 | D15: =Assumptions!G$139*C15 -> 1.9116 | E15: =D15*Assumptions!G$139 -> 2.064528 | F15: =Assumptions!G$139*E15 -> 2.2296902 | G15: =Assumptions!G$139*F15 -> 2.4080655 | H15: =Assumptions!G$139*G15 -> 2.6007107 | I15: =Assumptions!G$139*H15 -> 2.8087676 | J15: =Assumptions!G$139*I15 -> 3.033469 | K15: =Assumptions!G$139*J15 -> 3.2761465 | L15: =Assumptions!G$139*K15 -> 3.5382382 | M15: =Assumptions!G$139*L15 -> 3.8212972 | N15: =Assumptions!G$139*M15 -> 4.127001 | O15: =SUM(N15,M15,L15,K15,J15,I15,H15,G15,F15,E15,D15,C15) -> 33.589514
A16: IPL Pre-pay Balance | D16: =C15 -> 1.77 | E16: =D16+D15 -> 3.6816 | F16: =C15+D15+E15 -> 5.746128 | G16: =C15+D15+E15+F15 -> 7.9758182 | H16: =C15+D15+E15+F15+G15 -> 10.383884 | I16: =D15+E15+F15+G15+H15 -> 11.214594 | J16: =E15+F15+G15+H15+I15 -> 12.111762 | K16: =F15+G15+H15+I15+J15 -> 13.080703 | L16: =G15+H15+I15+J15+K15 -> 14.127159 | M16: =H15+I15+J15+K15+L15 -> 15.257332 | N16: =I15+J15+K15+L15+M15 -> 16.477918 | O16: =SUM(N16,M16,L16,K16,J16,I16,H16,G16,F16,E16,D16,C16) -> 111.8269
A17: Hours of Booking per Month | C17: =SUM(C10:C15) -> 28.32 | D17: =SUM(D10:D15) -> 35.8956 | E17: =SUM(E10:E15) -> 44.077248 | F17: =SUM(F10:F15) -> 52.913428 | G17: =SUM(G10:G15) -> 62.456502 | H17: =SUM(H10:H15) -> 72.763022 | I17: =SUM(I10:I15) -> 78.584064 | J17: =SUM(J10:J15) -> 84.870789 | ... N17: =SUM(N10:N15) -> 115.46577
A20: Aesthetician Hours per Month
A21: Facials/Microderm | C21: =(Assumptions!D169)*Assumptions!D135*Assumptions!G139 -> 15.2928 | D21: =C21*Assumptions!G139 -> 16.516224 | E21: =D21*Assumptions!G139 -> 17.837522 | F21: =E21*Assumptions!G139 -> 19.264524 | G21: =F21*Assumptions!G139 -> 20.805686 | H21: =G21*Assumptions!G139 -> 22.47014 | I21: =H21*Assumptions!G139 -> 24.267752 | J21: =I21*Assumptions!G139 -> 26.209172 | K21: =J21*Assumptions!G139 -> 28.305906 | L21: =K21*Assumptions!G139 -> 30.570378 | M21: =L21*Assumptions!G139 -> 33.016008 | N21: =M21*Assumptions!G139 -> 35.657289 | O21: =SUM(N21,M21,L21,K21,J21,I21,H21,G21,F21,E21,D21,C21) -> 290.2134 | Q21: Assume each procedure takes 1/2 hour
A22: Hours of Booking per Month | C22: =SUM(C21:C21) -> 15.2928 | D22: =SUM(D21:D21) -> 16.516224 | E22: =SUM(E21:E21) -> 17.837522 | F22: =SUM(F21:F21) -> 19.264524 | G22: =SUM(G21:G21) -> 20.805686 | H22: =SUM(H21:H21) -> 22.47014 | I22: =SUM(I21:I21) -> 24.267752 | J22: =SUM(J21:J21) -> 26.209172 | ... N22: =SUM(N21:N21) -> 35.657289

Sheet 12 Months P&L
A1: Profit and Loss Projection (12 Months)
A2: Enter your Company Name here
A3: ONLY Change data in yellow boxes)
A5: Fiscal Year Begins
A6: 40909
C8: =A6 -> 40909 | D8: % Total | E8: =DATE(YEAR(A6),MONTH(A6)+1,1) -> 40940 | F8: % | G8: =DATE(YEAR(E8),MONTH(E8)+1,1) -> 40969 | H8: % | I8: =DATE(YEAR(G8),MONTH(G8)+1,1) -> 41000 | J8: % | K8: =DATE(YEAR(I8),MONTH(I8)+1,1) -> 41030 | L8: % | M8: =DATE(YEAR(K8),MONTH(K8)+1,1) -> 41061 | N8: % | O8: =DATE(YEAR(M8),MONTH(M8)+1,1) -> 41091 | P8: % | Q8: =DATE(YEAR(O8),MONTH(O8)+1,1) -> 41122 | R8: % | S8: =DATE(YEAR(Q8),MONTH(Q8)+1,1) -> 41153 | T8: % | U8: =DATE(YEAR(S8),MONTH(S8)+1,1) -> 41183 | V8: % | W8: =DATE(YEAR(U8),MONTH(U8)+1,1) -> 41214 | X8: % | Y8: =DATE(YEAR(W8),MONTH(W8)+1,1) -> 41244 | Z8: % | AA8: YEARLY
A9: Revenue (Sales)
A10: Botox | C10: =Assumptions!D135*Assumptions!D156*Assumptions!D164 -> 10620 | D10: =IF(C$17=0,"-",(C10*100)/C$17) -> 31.25 | E10: =C10*Assumptions!$G$139 -> 11469.6 | F10: =IF(E$17=0,"-",(E10*100)/E$17) -> 31.25 | G10: =E10*Assumptions!$G$139 -> 12387.168 | H10: =IF(G$17=0,"-",(G10*100)/G$17) -> 31.25 | I10: =G10*Assumptions!$G$139 -> 13378.141 | J10: =IF(I$17=0,"-",(I10*100)/I$17) -> 31.25 | K10: =I10*Assumptions!$G$139 -> 14448.393 | L10: =IF(K$17=0,"-",(K10*100)/K$17) -> 31.25 | M10: =K10*Assumptions!$G$139 -> 15604.264 | N10: =IF(M$17=0,"-",(M10*100)/M$17) -> 31.25 | O10: =M10*Assumptions!$G$139 -> 16852.605 | P10: =IF(O$17=0,"-",(O10*100)/O$17) -> 31.25 | Q10: =O10*Assumptions!$G$139 -> 18200.814 | R10: =IF(Q$17=0,"-",(Q10*100)/Q$17) -> 31.25 | S10: =Q10*Assumptions!$G$139 -> 19656.879 | T10: =IF(S$17=0,"-",(S10*100)/S$17) -> 31.25 | U10: =S10*Assumptions!$G$139 -> 21229.429 | V10: =IF(U$17=0,"-",(U10*100)/U$17) -> 31.25 | W10: =U10*Assumptions!$G$139 -> 22927.783 | X10: =IF(W$17=0,"-",(W10*100)/W$17) -> 31.25 | Y10: =W10*Assumptions!$G$139 -> 24762.006 | Z10: =IF(Y$17=0,"-",(Y10*100)/Y$17) -> 31.25 | AA10: =SUM(Y10,W10,U10,S10,Q10,O10,M10,K10,I10,G10,E10,C10) -> 201537.08
A11: Filler | C11: =Assumptions!D135*Assumptions!D165*Assumptions!D156 -> 7080 | D11: =IF(C$17=0,"-",(C11*100)/C$17) -> 20.833333 | E11: =C11*Assumptions!$G$139 -> 7646.4 | F11: =IF(E$17=0,"-",(E11*100)/E$17) -> 20.833333 | G11: =E11*Assumptions!$G$139 -> 8258.112 | H11: =IF(G$17=0,"-",(G11*100)/G$17) -> 20.833333 | I11: =G11*Assumptions!$G$139 -> 8918.761 | J11: =IF(I$17=0,"-",(I11*100)/I$17) -> 20.833333 | K11: =I11*Assumptions!$G$139 -> 9632.2618 | L11: =IF(K$17=0,"-",(K11*100)/K$17) -> 20.833333 | M11: =K11*Assumptions!$G$139 -> 10402.843 | N11: =IF(M$17=0,"-",(M11*100)/M$17) -> 20.833333 | O11: =M11*Assumptions!$G$139 -> 11235.07 | P11: =IF(O$17=0,"-",(O11*100)/O$17) -> 20.833333 | Q11: =O11*Assumptions!$G$139 -> 12133.876 | R11: =IF(Q$17=0,"-",(Q11*100)/Q$17) -> 20.833333 | S11: =Q11*Assumptions!$G$139 -> 13104.586 | T11: =IF(S$17=0,"-",(S11*100)/S$17) -> 20.833333 | U11: =S11*Assumptions!$G$139 -> 14152.953 | V11: =IF(U$17=0,"-",(U11*100)/U$17) -> 20.833333 | W11: =U11*Assumptions!$G$139 -> 15285.189 | X11: =IF(W$17=0,"-",(W11*100)/W$17) -> 20.833333 | Y11: =W11*Assumptions!$G$139 -> 16508.004 | Z11: =IF(Y$17=0,"-",(Y11*100)/Y$17) -> 20.833333 | AA11: =SUM(Y11,W11,U11,S11,Q11,O11,M11,K11,I11,G11,E11,C11) -> 134358.06
A12: Sclero | C12: =Assumptions!D166*Assumptions!D154*Assumptions!D135 -> 1416 | D12: =IF(C$17=0,"-",(C12*100)/C$17) -> 4.1666667 | E12: =C12*Assumptions!$G$139 -> 1529.28 | F12: =IF(E$17=0,"-",(E12*100)/E$17) -> 4.1666667 | G12: =E12*Assumptions!$G$139 -> 1651.6224 | H12: =IF(G$17=0,"-",(G12*100)/G$17) -> 4.1666667 | I12: =G12*Assumptions!$G$139 -> 1783.7522 | J12: =IF(I$17=0,"-",(I12*100)/I$17) -> 4.1666667 | K12: =I12*Assumptions!$G$139 -> 1926.4524 | L12: =IF(K$17=0,"-",(K12*100)/K$17) -> 4.1666667 | M12: =K12*Assumptions!$G$139 -> 2080.5686 | N12: =IF(M$17=0,"-",(M12*100)/M$17) -> 4.1666667 | O12: =M12*Assumptions!$G$139 -> 2247.014 | P12: =IF(O$17=0,"-",(O12*100)/O$17) -> 4.1666667 | Q12: =O12*Assumptions!$G$139 -> 2426.7752 | R12: =IF(Q$17=0,"-",(Q12*100)/Q$17) -> 4.1666667 | S12: =Q12*Assumptions!$G$139 -> 2620.9172 | T12: =IF(S$17=0,"-",(S12*100)/S$17) -> 4.1666667 | U12: =S12*Assumptions!$G$139 -> 2830.5906 | V12: =IF(U$17=0,"-",(U12*100)/U$17) -> 4.1666667 | W12: =U12*Assumptions!$G$139 -> 3057.0378 | X12: =IF(W$17=0,"-",(W12*100)/W$17) -> 4.1666667 | Y12: =W12*Assumptions!$G$139 -> 3301.6008 | Z12: =IF(Y$17=0,"-",(Y12*100)/Y$17) -> 4.1666667 | AA12: =SUM(Y12,W12,U12,S12,Q12,O12,M12,K12,I12,G12,E12,C12) -> 26871.611
A13: Laser Hair | C13: =Assumptions!D135*Assumptions!D153*Assumptions!D149*Assumptions!D167 -> 9558 | D13: =IF(C$17=0,"-",(C13*100)/C$17) -> 28.125 | E13: =C13*Assumptions!$G$139 -> 10322.64 | F13: =IF(E$17=0,"-",(E13*100)/E$17) -> 28.125 | G13: =E13*Assumptions!$G$139 -> 11148.451 | H13: =IF(G$17=0,"-",(G13*100)/G$17) -> 28.125 | I13: =G13*Assumptions!$G$139 -> 12040.327 | J13: =IF(I$17=0,"-",(I13*100)/I$17) -> 28.125 | K13: =I13*Assumptions!$G$139 -> 13003.553 | L13: =IF(K$17=0,"-",(K13*100)/K$17) -> 28.125 | M13: =K13*Assumptions!$G$139 -> 14043.838 | N13: =IF(M$17=0,"-",(M13*100)/M$17) -> 28.125 | O13: =M13*Assumptions!$G$139 -> 15167.345 | P13: =IF(O$17=0,"-",(O13*100)/O$17) -> 28.125 | Q13: =O13*Assumptions!$G$139 -> 16380.732 | R13: =IF(Q$17=0,"-",(Q13*100)/Q$17) -> 28.125 | S13: =Q13*Assumptions!$G$139 -> 17691.191 | T13: =IF(S$17=0,"-",(S13*100)/S$17) -> 28.125 | U13: =S13*Assumptions!$G$139 -> 19106.486 | V13: =IF(U$17=0,"-",(U13*100)/U$17) -> 28.125 | W13: =U13*Assumptions!$G$139 -> 20635.005 | X13: =IF(W$17=0,"-",(W13*100)/W$17) -> 28.125 | Y13: =W13*Assumptions!$G$139 -> 22285.806 | Z13: =IF(Y$17=0,"-",(Y13*100)/Y$17) -> 28.125 | AA13: =SUM(Y13,W13,U13,S13,Q13,O13,M13,K13,I13,G13,E13,C13) -> 181383.37
A14: IPL | C14: =Assumptions!D168*Assumptions!D153*Assumptions!D135*Assumptions!D150 -> 3186 | D14: =IF(C$17=0,"-",(C14*100)/C$17) -> 9.375 | E14: =C14*Assumptions!$G$139 -> 3440.88 | F14: =IF(E$17=0,"-",(E14*100)/E$17) -> 9.375 | G14: =E14*Assumptions!$G$139 -> 3716.1504 | H14: =IF(G$17=0,"-",(G14*100)/G$17) -> 9.375 | I14: =G14*Assumptions!$G$139 -> 4013.4424 | J14: =IF(I$17=0,"-",(I14*100)/I$17) -> 9.375 | K14: =I14*Assumptions!$G$139 -> 4334.5178 | L14: =IF(K$17=0,"-",(K14*100)/K$17) -> 9.375 | M14: =K14*Assumptions!$G$139 -> 4681.2793 | N14: =IF(M$17=0,"-",(M14*100)/M$17) -> 9.375 | O14: =M14*Assumptions!$G$139 -> 5055.7816 | P14: =IF(O$17=0,"-",(O14*100)/O$17) -> 9.375 | Q14: =O14*Assumptions!$G$139 -> 5460.2441 | R14: =IF(Q$17=0,"-",(Q14*100)/Q$17) -> 9.375 | S14: =Q14*Assumptions!$G$139 -> 5897.0636 | T14: =IF(S$17=0,"-",(S14*100)/S$17) -> 9.375 | U14: =S14*Assumptions!$G$139 -> 6368.8287 | V14: =IF(U$17=0,"-",(U14*100)/U$17) -> 9.375 | W14: =U14*Assumptions!$G$139 -> 6878.335 | X14: =IF(W$17=0,"-",(W14*100)/W$17) -> 9.375 | Y14: =W14*Assumptions!$G$139 -> 7428.6018 | Z14: =IF(Y$17=0,"-",(Y14*100)/Y$17) -> 9.375 | AA14: =SUM(Y14,W14,U14,S14,Q14,O14,M14,K14,I14,G14,E14,C14) -> 60461.125
A15: Facial/Microderm | C15: =Assumptions!D135*Assumptions!D155*Assumptions!D169 -> 1416 | D15: =IF(C$17=0,"-",(C15*100)/C$17) -> 4.1666667 | E15: =C15*Assumptions!$G$139 -> 1529.28 | F15: =IF(E$17=0,"-",(E15*100)/E$17) -> 4.1666667 | G15: =E15*Assumptions!$G$139 -> 1651.6224 | H15: =IF(G$17=0,"-",(G15*100)/G$17) -> 4.1666667 | I15: =G15*Assumptions!$G$139 -> 1783.7522 | J15: =IF(I$17=0,"-",(I15*100)/I$17) -> 4.1666667 | K15: =I15*Assumptions!$G$139 -> 1926.4524 | L15: =IF(K$17=0,"-",(K15*100)/K$17) -> 4.1666667 | M15: =K15*Assumptions!$G$139 -> 2080.5686 | N15: =IF(M$17=0,"-",(M15*100)/M$17) -> 4.1666667 | O15: =M15*Assumptions!$G$139 -> 2247.014 | P15: =IF(O$17=0,"-",(O15*100)/O$17) -> 4.1666667 | Q15: =O15*Assumptions!$G$139 -> 2426.7752 | R15: =IF(Q$17=0,"-",(Q15*100)/Q$17) -> 4.1666667 | S15: =Q15*Assumptions!$G$139 -> 2620.9172 | T15: =IF(S$17=0,"-",(S15*100)/S$17) -> 4.1666667 | U15: =S15*Assumptions!$G$139 -> 2830.5906 | V15: =IF(U$17=0,"-",(U15*100)/U$17) -> 4.1666667 | W15: =U15*Assumptions!$G$139 -> 3057.0378 | X15: =IF(W$17=0,"-",(W15*100)/W$17) -> 4.1666667 | Y15: =W15*Assumptions!$G$139 -> 3301.6008 | Z15: =IF(Y$17=0,"-",(Y15*100)/Y$17) -> 4.1666667 | AA15: =SUM(Y15,W15,U15,S15,Q15,O15,M15,K15,I15,G15,E15,C15) -> 26871.611
A16: Product | C16: =Assumptions!D135*Assumptions!D158*Assumptions!D159 -> 708 | D16: =IF(C$17=0,"-",(C16*100)/C$17) -> 2.0833333 | E16: =C16*Assumptions!$G$139 -> 764.64 | F16: =IF(E$17=0,"-",(E16*100)/E$17) -> 2.0833333 | G16: =E16*Assumptions!$G$139 -> 825.8112 | H16: =IF(G$17=0,"-",(G16*100)/G$17) -> 2.0833333 | I16: =G16*Assumptions!$G$139 -> 891.8761 | J16: =IF(I$17=0,"-",(I16*100)/I$17) -> 2.0833333 | K16: =I16*Assumptions!$G$139 -> 963.22618 | L16: =IF(K$17=0,"-",(K16*100)/K$17) -> 2.0833333 | M16: =K16*Assumptions!$G$139 -> 1040.2843 | N16: =IF(M$17=0,"-",(M16*100)/M$17) -> 2.0833333 | O16: =M16*Assumptions!$G$139 -> 1123.507 | P16: =IF(O$17=0,"-",(O16*100)/O$17) -> 2.0833333 | Q16: =O16*Assumptions!$G$139 -> 1213.3876 | R16: =IF(Q$17=0,"-",(Q16*100)/Q$17) -> 2.0833333 | S16: =Q16*Assumptions!$G$139 -> 1310.4586 | T16: =IF(S$17=0,"-",(S16*100)/S$17) -> 2.0833333 | U16: =S16*Assumptions!$G$139 -> 1415.2953 | V16: =IF(U$17=0,"-",(U16*100)/U$17) -> 2.0833333 | W16: =U16*Assumptions!$G$139 -> 1528.5189 | X16: =IF(W$17=0,"-",(W16*100)/W$17) -> 2.0833333 | Y16: =W16*Assumptions!$G$139 -> 1650.8004 | Z16: =IF(Y$17=0,"-",(Y16*100)/Y$17) -> 2.0833333 | AA16: =SUM(Y16,W16,U16,S16,Q16,O16,M16,K16,I16,G16,E16,C16) -> 13435.806
A17: Total Revenue (Sales) | C17: =SUM(C10:C16) -> 33984 | D17: =SUM(D10:D16) -> 100 | E17: =SUM(E10:E16) -> 36702.72 | F17: =SUM(F10:F16) -> 100 | G17: =SUM(G10:G16) -> 39638.938 | H17: =SUM(H10:H16) -> 100 | I17: =SUM(I10:I16) -> 42810.053 | J17: =SUM(J10:J16) -> 100 | ... AA17: =SUM(AA10:AA16) -> 644918.67
A18: Unearned Income * | C18: =(C$13*0.83)+(C$14*0.83) -> 10577.52 | E18: =(E$13*0.83)+(E$14*0.83)+(C18*0.83) -> 20203.063 | G18: =(G$13*0.83)+(G$14*0.83)+(E18*0.83) -> 29106.162 | I18: =(I$13*0.83)+(I$14*0.83)+(G18*0.83) -> 37482.743 | K18: =(K$13*0.83)+(K$14*0.83)+(I18*0.83) -> 45501.276 | M18: =(M$13*0.83)+(M$14*0.83)+(K18*0.83) -> 53307.906 | O18: =(O$13*0.83)+(O$14*0.83)+(M18*0.83) -> 61030.757 | Q18: =(Q$13*0.83)+(Q$14*0.83)+(O18*0.83) -> 68783.539 | S18: =(S$13*0.83)+(S$14*0.83)+(Q18*0.83) -> 76668.589 | U18: =(U$13*0.83)+(U$14*0.83)+(S18*0.83) -> 84779.44 | W18: =(W$13*0.83)+(W$14*0.83)+(U18*0.83) -> 93203.007 | Y18: =(Y$13*0.83)+(Y$14*0.83)+(W18*0.83) -> 102021.45
B19: * Income unearned because laser hair and ipl was presold in a package of 6
A20: Cost of Sales
A21: Botox | C21: =C10*Assumptions!D126 -> 5310 | D21: =IF(C$28=0,"-",(C21*100)/C$28) -> 55.555556 | E21: =C21*Assumptions!$G$139 -> 5734.8 | F21: =IF(E$28=0,"-",(E21*100)/E$28) -> 55.555556 | G21: =E21*Assumptions!$G$139 -> 6193.584 | H21: =IF(G$28=0,"-",(G21*100)/G$28) -> 55.555556 | I21: =G21*Assumptions!$G$139 -> 6689.0707 | J21: =IF(I$28=0,"-",(I21*100)/I$28) -> 55.555556 | K21: =I21*Assumptions!$G$139 -> 7224.1964 | L21: =IF(K$28=0,"-",(K21*100)/K$28) -> 55.555556 | M21: =K21*Assumptions!$G$139 -> 7802.1321 | N21: =IF(M$28=0,"-",(M21*100)/M$28) -> 55.555556 | O21: =M21*Assumptions!$G$139 -> 8426.3027 | P21: =IF(O$28=0,"-",(O21*100)/O$28) -> 55.555556 | Q21: =O21*Assumptions!$G$139 -> 9100.4069 | R21: =IF(Q$28=0,"-",(Q21*100)/Q$28) -> 55.555556 | S21: =Q21*Assumptions!$G$139 -> 9828.4394 | T21: =IF(S$28=0,"-",(S21*100)/S$28) -> 55.555556 | U21: =S21*Assumptions!$G$139 -> 10614.715 | V21: =IF(U$28=0,"-",(U21*100)/U$28) -> 55.555556 | W21: =U21*Assumptions!$G$139 -> 11463.892 | X21: =IF(W$28=0,"-",(W21*100)/W$28) -> 55.555556 | Y21: =W21*Assumptions!$G$139 -> 12381.003 | Z21: =IF(Y$28=0,"-",(Y21*100)/Y$28) -> 55.555556 | AA21: =SUM(Y21,W21,U21,S21,Q21,O21,M21,K21,I21,G21,E21,C21) -> 100768.54
A22: Filler | C22: =Assumptions!D126*C11 -> 3540 | D22: =IF(C$28=0,"-",(C22*100)/C$28) -> 37.037037 | E22: =C22*Assumptions!$G$139 -> 3823.2 | F22: =IF(E$28=0,"-",(E22*100)/E$28) -> 37.037037 | G22: =E22*Assumptions!$G$139 -> 4129.056 | H22: =IF(G$28=0,"-",(G22*100)/G$28) -> 37.037037 | I22: =G22*Assumptions!$G$139 -> 4459.3805 | J22: =IF(I$28=0,"-",(I22*100)/I$28) -> 37.037037 | K22: =I22*Assumptions!$G$139 -> 4816.1309 | L22: =IF(K$28=0,"-",(K22*100)/K$28) -> 37.037037 | M22: =K22*Assumptions!$G$139 -> 5201.4214 | N22: =IF(M$28=0,"-",(M22*100)/M$28) -> 37.037037 | O22: =M22*Assumptions!$G$139 -> 5617.5351 | P22: =IF(O$28=0,"-",(O22*100)/O$28) -> 37.037037 | Q22: =O22*Assumptions!$G$139 -> 6066.9379 | R22: =IF(Q$28=0,"-",(Q22*100)/Q$28) -> 37.037037 | S22: =Q22*Assumptions!$G$139 -> 6552.2929 | T22: =IF(S$28=0,"-",(S22*100)/S$28) -> 37.037037 | U22: =S22*Assumptions!$G$139 -> 7076.4764 | V22: =IF(U$28=0,"-",(U22*100)/U$28) -> 37.037037 | W22: =U22*Assumptions!$G$139 -> 7642.5945 | X22: =IF(W$28=0,"-",(W22*100)/W$28) -> 37.037037 | Y22: =W22*Assumptions!$G$139 -> 8254.002 | Z22: =IF(Y$28=0,"-",(Y22*100)/Y$28) -> 37.037037 | AA22: =SUM(Y22,W22,U22,S22,Q22,O22,M22,K22,I22,G22,E22,C22) -> 67179.028
A23: Sclero | C23: =Assumptions!D127*C12 -> 28.32 | D23: =IF(C$28=0,"-",(C23*100)/C$28) -> 0.2962963 | E23: =C23*Assumptions!$G$139 -> 30.5856 | F23: =IF(E$28=0,"-",(E23*100)/E$28) -> 0.2962963 | G23: =E23*Assumptions!$G$139 -> 33.032448 | H23: =IF(G$28=0,"-",(G23*100)/G$28) -> 0.2962963 | I23: =G23*Assumptions!$G$139 -> 35.675044 | J23: =IF(I$28=0,"-",(I23*100)/I$28) -> 0.2962963 | K23: =I23*Assumptions!$G$139 -> 38.529047 | L23: =IF(K$28=0,"-",(K23*100)/K$28) -> 0.2962963 | M23: =K23*Assumptions!$G$139 -> 41.611371 | N23: =IF(M$28=0,"-",(M23*100)/M$28) -> 0.2962963 | O23: =M23*Assumptions!$G$139 -> 44.940281 | P23: =IF(O$28=0,"-",(O23*100)/O$28) -> 0.2962963 | Q23: =O23*Assumptions!$G$139 -> 48.535503 | R23: =IF(Q$28=0,"-",(Q23*100)/Q$28) -> 0.2962963 | S23: =Q23*Assumptions!$G$139 -> 52.418344 | T23: =IF(S$28=0,"-",(S23*100)/S$28) -> 0.2962963 | U23: =S23*Assumptions!$G$139 -> 56.611811 | V23: =IF(U$28=0,"-",(U23*100)/U$28) -> 0.2962963 | W23: =U23*Assumptions!$G$139 -> 61.140756 | X23: =IF(W$28=0,"-",(W23*100)/W$28) -> 0.2962963 | Y23: =W23*Assumptions!$G$139 -> 66.032016 | Z23: =IF(Y$28=0,"-",(Y23*100)/Y$28) -> 0.2962963 | AA23: =SUM(Y23,W23,U23,S23,Q23,O23,M23,K23,I23,G23,E23,C23) -> 537.43222
A24: Laser Hair | C24: =Assumptions!D128*C13 -> 191.16 | D24: =IF(C$28=0,"-",(C24*100)/C$28) -> 2 | E24: =C24*Assumptions!$G$139 -> 206.4528 | F24: =IF(E$28=0,"-",(E24*100)/E$28) -> 2 | G24: =E24*Assumptions!$G$139 -> 222.96902 | H24: =IF(G$28=0,"-",(G24*100)/G$28) -> 2 | I24: =G24*Assumptions!$G$139 -> 240.80655 | J24: =IF(I$28=0,"-",(I24*100)/I$28) -> 2 | K24: =I24*Assumptions!$G$139 -> 260.07107 | L24: =IF(K$28=0,"-",(K24*100)/K$28) -> 2 | M24: =K24*Assumptions!$G$139 -> 280.87676 | N24: =IF(M$28=0,"-",(M24*100)/M$28) -> 2 | O24: =M24*Assumptions!$G$139 -> 303.3469 | P24: =IF(O$28=0,"-",(O24*100)/O$28) -> 2 | Q24: =O24*Assumptions!$G$139 -> 327.61465 | R24: =IF(Q$28=0,"-",(Q24*100)/Q$28) -> 2 | S24: =Q24*Assumptions!$G$139 -> 353.82382 | T24: =IF(S$28=0,"-",(S24*100)/S$28) -> 2 | U24: =S24*Assumptions!$G$139 -> 382.12972 | V24: =IF(U$28=0,"-",(U24*100)/U$28) -> 2 | W24: =U24*Assumptions!$G$139 -> 412.7001 | X24: =IF(W$28=0,"-",(W24*100)/W$28) -> 2 | Y24: =W24*Assumptions!$G$139 -> 445.71611 | Z24: =IF(Y$28=0,"-",(Y24*100)/Y$28) -> 2 | AA24: =SUM(Y24,W24,U24,S24,Q24,O24,M24,K24,I24,G24,E24,C24) -> 3627.6675
A25: IPL | C25: =Assumptions!D128*C14 -> 63.72 | D25: =IF(C$28=0,"-",(C25*100)/C$28) -> 0.66666667 | E25: =C25*Assumptions!$G$139 -> 68.8176 | F25: =IF(E$28=0,"-",(E25*100)/E$28) -> 0.66666667 | G25: =E25*Assumptions!$G$139 -> 74.323008 | H25: =IF(G$28=0,"-",(G25*100)/G$28) -> 0.66666667 | I25: =G25*Assumptions!$G$139 -> 80.268849 | J25: =IF(I$28=0,"-",(I25*100)/I$28) -> 0.66666667 | K25: =I25*Assumptions!$G$139 -> 86.690357 | L25: =IF(K$28=0,"-",(K25*100)/K$28) -> 0.66666667 | M25: =K25*Assumptions!$G$139 -> 93.625585 | N25: =IF(M$28=0,"-",(M25*100)/M$28) -> 0.66666667 | O25: =M25*Assumptions!$G$139 -> 101.11563 | P25: =IF(O$28=0,"-",(O25*100)/O$28) -> 0.66666667 | Q25: =O25*Assumptions!$G$139 -> 109.20488 | R25: =IF(Q$28=0,"-",(Q25*100)/Q$28) -> 0.66666667 | S25: =Q25*Assumptions!$G$139 -> 117.94127 | T25: =IF(S$28=0,"-",(S25*100)/S$28) -> 0.66666667 | U25: =S25*Assumptions!$G$139 -> 127.37657 | V25: =IF(U$28=0,"-",(U25*100)/U$28) -> 0.66666667 | W25: =U25*Assumptions!$G$139 -> 137.5667 | X25: =IF(W$28=0,"-",(W25*100)/W$28) -> 0.66666667 | Y25: =W25*Assumptions!$G$139 -> 148.57204 | Z25: =IF(Y$28=0,"-",(Y25*100)/Y$28) -> 0.66666667 | AA25: =SUM(Y25,W25,U25,S25,Q25,O25,M25,K25,I25,G25,E25,C25) -> 1209.2225
A26: Facial/Microderm | C26: =Assumptions!D129*C15 -> 70.8 | D26: =IF(C$28=0,"-",(C26*100)/C$28) -> 0.74074074 | E26: =C26*Assumptions!$G$139 -> 76.464 | F26: =IF(E$28=0,"-",(E26*100)/E$28) -> 0.74074074 | G26: =E26*Assumptions!$G$139 -> 82.58112 | H26: =IF(G$28=0,"-",(G26*100)/G$28) -> 0.74074074 | I26: =G26*Assumptions!$G$139 -> 89.18761 | J26: =IF(I$28=0,"-",(I26*100)/I$28) -> 0.74074074 | K26: =I26*Assumptions!$G$139 -> 96.322618 | L26: =IF(K$28=0,"-",(K26*100)/K$28) -> 0.74074074 | M26: =K26*Assumptions!$G$139 -> 104.02843 | N26: =IF(M$28=0,"-",(M26*100)/M$28) -> 0.74074074 | O26: =M26*Assumptions!$G$139 -> 112.3507 | P26: =IF(O$28=0,"-",(O26*100)/O$28) -> 0.74074074 | Q26: =O26*Assumptions!$G$139 -> 121.33876 | R26: =IF(Q$28=0,"-",(Q26*100)/Q$28) -> 0.74074074 | S26: =Q26*Assumptions!$G$139 -> 131.04586 | T26: =IF(S$28=0,"-",(S26*100)/S$28) -> 0.74074074 | U26: =S26*Assumptions!$G$139 -> 141.52953 | V26: =IF(U$28=0,"-",(U26*100)/U$28) -> 0.74074074 | W26: =U26*Assumptions!$G$139 -> 152.85189 | X26: =IF(W$28=0,"-",(W26*100)/W$28) -> 0.74074074 | Y26: =W26*Assumptions!$G$139 -> 165.08004 | Z26: =IF(Y$28=0,"-",(Y26*100)/Y$28) -> 0.74074074 | AA26: =SUM(Y26,W26,U26,S26,Q26,O26,M26,K26,I26,G26,E26,C26) -> 1343.5806
A27: Product | C27: =Assumptions!D130*C16 -> 354 | D27: =IF(C$28=0,"-",(C27*100)/C$28) -> 3.7037037 | E27: =C27*Assumptions!$G$139 -> 382.32 | F27: =IF(E$28=0,"-",(E27*100)/E$28) -> 3.7037037 | G27: =E27*Assumptions!$G$139 -> 412.9056 | H27: =IF(G$28=0,"-",(G27*100)/G$28) -> 3.7037037 | I27: =G27*Assumptions!$G$139 -> 445.93805 | J27: =IF(I$28=0,"-",(I27*100)/I$28) -> 3.7037037 | K27: =I27*Assumptions!$G$139 -> 481.61309 | L27: =IF(K$28=0,"-",(K27*100)/K$28) -> 3.7037037 | M27: =K27*Assumptions!$G$139 -> 520.14214 | N27: =IF(M$28=0,"-",(M27*100)/M$28) -> 3.7037037 | O27: =M27*Assumptions!$G$139 -> 561.75351 | P27: =IF(O$28=0,"-",(O27*100)/O$28) -> 3.7037037 | Q27: =O27*Assumptions!$G$139 -> 606.69379 | R27: =IF(Q$28=0,"-",(Q27*100)/Q$28) -> 3.7037037 | S27: =Q27*Assumptions!$G$139 -> 655.22929 | T27: =IF(S$28=0,"-",(S27*100)/S$28) -> 3.7037037 | U27: =S27*Assumptions!$G$139 -> 707.64764 | V27: =IF(U$28=0,"-",(U27*100)/U$28) -> 3.7037037 | W27: =U27*Assumptions!$G$139 -> 764.25945 | X27: =IF(W$28=0,"-",(W27*100)/W$28) -> 3.7037037 | Y27: =W27*Assumptions!$G$139 -> 825.4002 | Z27: =IF(Y$28=0,"-",(Y27*100)/Y$28) -> 3.7037037 | AA27: =SUM(Y27,W27,U27,S27,Q27,O27,M27,K27,I27,G27,E27,C27) -> 6717.9028
A28: Total Cost of Sales | C28: =SUM(C21:C27) -> 9558 | D28: =SUM(D21:D27) -> 100 | E28: =SUM(E21:E27) -> 10322.64 | F28: =SUM(F21:F27) -> 100 | G28: =SUM(G21:G27) -> 11148.451 | H28: =SUM(H21:H27) -> 100 | I28: =SUM(I21:I27) -> 12040.327 | J28: =SUM(J21:J27) -> 100 | ... AA28: =SUM(AA21:AA27) -> 181383.37
A30: Gross Profit | C30: =C17-C28 -> 24426 | D30: =IF(C17=0,"-",(C30*100)/C17) -> 71.875 | E30: =E17-E28 -> 26380.08 | F30: =IF(E17=0,"-",(E30*100)/E17) -> 71.875 | G30: =G17-G28 -> 28490.486 | H30: =IF(G17=0,"-",(G30*100)/G17) -> 71.875 | I30: =I17-I28 -> 30769.725 | J30: =IF(I17=0,"-",(I30*100)/I17) -> 71.875 | K30: =K17-K28 -> 33231.303 | L30: =IF(K17=0,"-",(K30*100)/K17) -> 71.875 | M30: =M17-M28 -> 35889.808 | N30: =IF(M17=0,"-",(M30*100)/M17) -> 71.875 | O30: =O17-O28 -> 38760.992 | P30: =IF(O17=0,"-",(O30*100)/O17) -> 71.875 | Q30: =Q17-Q28 -> 41861.872 | R30: =IF(Q17=0,"-",(Q30*100)/Q17) -> 71.875 | S30: =S17-S28 -> 45210.821 | T30: =IF(S17=0,"-",(S30*100)/S17) -> 71.875 | U30: =U17-U28 -> 48827.687 | V30: =IF(U17=0,"-",(U30*100)/U17) -> 71.875 | W30: =W17-W28 -> 52733.902 | X30: =IF(W17=0,"-",(W30*100)/W17) -> 71.875 | Y30: =Y17-Y28 -> 56952.614 | Z30: =IF(Y17=0,"-",(Y30*100)/Y17) -> 71.875 | AA30: =AA17-AA28 -> 463535.29
A33: Expenses
A34: Receptionist Pay | C34: =Assumptions!$D$97 -> 1720 | D34: =IF(C$48=0,"-",(C34*100)/C$48) -> 6.6905938 | E34: =Assumptions!$D$97 -> 1720 | F34: =IF(E$48=0,"-",(E34*100)/E$48) -> 6.5861166 | G34: =Assumptions!$D$97 -> 1720 | H34: =IF(G$48=0,"-",(G34*100)/G$48) -> 6.4768854 | I34: =Assumptions!$D$97 -> 1720 | J34: =IF(I$48=0,"-",(I34*100)/I$48) -> 5.0720046 | K34: =Assumptions!$D$97 -> 1720 | L34: =IF(K$48=0,"-",(K34*100)/K$48) -> 4.9963164 | M34: =Assumptions!$D$97 -> 1720 | N34: =IF(M$48=0,"-",(M34*100)/M$48) -> 4.9170702 | O34: =Assumptions!$D$97 -> 1720 | P34: =IF(O$48=0,"-",(O34*100)/O$48) -> 4.8342602 | Q34: =Assumptions!$D$97 -> 1720 | R34: =IF(Q$48=0,"-",(Q34*100)/Q$48) -> 4.7479024 | S34: =Assumptions!$D$97 -> 1720 | T34: =IF(S$48=0,"-",(S34*100)/S$48) -> 4.6580358 | U34: =Assumptions!$D$97 -> 1720 | V34: =IF(U$48=0,"-",(U34*100)/U$48) -> 4.5647244 | W34: =Assumptions!$D$97 -> 1720 | X34: =IF(W$48=0,"-",(W34*100)/W$48) -> 4.4680583 | Y34: =Assumptions!$D$97 -> 1720 | Z34: =IF(Y$48=0,"-",(Y34*100)/Y$48) -> 4.3228358 | AA34: =SUM(Y34,W34,U34,S34,Q34,O34,M34,K34,I34,G34,E34,C34) -> 20640
A35: Aesthetician Pay | C35: =Assumptions!$D$103 -> 412.8 | D35: =IF(C$48=0,"-",(C35*100)/C$48) -> 1.6057425 | E35: =Assumptions!$D$103 -> 412.8 | F35: =IF(E$48=0,"-",(E35*100)/E$48) -> 1.580668 | G35: =Assumptions!$D$103 -> 412.8 | H35: =IF(G$48=0,"-",(G35*100)/G$48) -> 1.5544525 | I35: =Assumptions!$D$103 -> 412.8 | J35: =IF(I$48=0,"-",(I35*100)/I$48) -> 1.2172811 | K35: =Assumptions!$D$103 -> 412.8 | L35: =IF(K$48=0,"-",(K35*100)/K$48) -> 1.1991159 | M35: =Assumptions!$D$103 -> 412.8 | N35: =IF(M$48=0,"-",(M35*100)/M$48) -> 1.1800968 | O35: =Assumptions!$D$103 -> 412.8 | P35: =IF(O$48=0,"-",(O35*100)/O$48) -> 1.1602225 | Q35: =Assumptions!$D$103 -> 412.8 | R35: =IF(Q$48=0,"-",(Q35*100)/Q$48) -> 1.1394966 | S35: =Assumptions!$D$103 -> 412.8 | T35: =IF(S$48=0,"-",(S35*100)/S$48) -> 1.1179286 | U35: =Assumptions!$D$103 -> 412.8 | V35: =IF(U$48=0,"-",(U35*100)/U$48) -> 1.0955339 | W35: =Assumptions!$D$103 -> 412.8 | X35: =IF(W$48=0,"-",(W35*100)/W$48) -> 1.072334 | Y35: =Assumptions!$D$103*2 -> 825.6 | Z35: =IF(Y$48=0,"-",(Y35*100)/Y$48) -> 2.0749612 | AA35: =SUM(Y35,W35,U35,S35,Q35,O35,M35,K35,I35,G35,E35,C35) -> 5366.4
A36: PA/NP Pay | C36: =Assumptions!$D$109 -> 6880 | D36: =IF(C$48=0,"-",(C36*100)/C$48) -> 26.762375 | E36: =Assumptions!$D$109 -> 6880 | F36: =IF(E$48=0,"-",(E36*100)/E$48) -> 26.344466 | G36: =Assumptions!$D$109 -> 6880 | H36: =IF(G$48=0,"-",(G36*100)/G$48) -> 25.907542 | I36: =Assumptions!$D$109*2 -> 13760 | J36: =IF(I$48=0,"-",(I36*100)/I$48) -> 40.576037 | K36: =Assumptions!$D$109*2 -> 13760 | L36: =IF(K$48=0,"-",(K36*100)/K$48) -> 39.970531 | M36: =Assumptions!$D$109*2 -> 13760 | N36: =IF(M$48=0,"-",(M36*100)/M$48) -> 39.336561 | O36: =Assumptions!$D$109*2 -> 13760 | P36: =IF(O$48=0,"-",(O36*100)/O$48) -> 38.674082 | Q36: =Assumptions!$D$109*2 -> 13760 | R36: =IF(Q$48=0,"-",(Q36*100)/Q$48) -> 37.983219 | S36: =Assumptions!$D$109*2 -> 13760 | T36: =IF(S$48=0,"-",(S36*100)/S$48) -> 37.264287 | U36: =Assumptions!$D$109*2 -> 13760 | V36: =IF(U$48=0,"-",(U36*100)/U$48) -> 36.517795 | W36: =Assumptions!$D$109*2 -> 13760 | X36: =IF(W$48=0,"-",(W36*100)/W$48) -> 35.744466 | Y36: =Assumptions!$D$109*2 -> 13760 | Z36: =IF(Y$48=0,"-",(Y36*100)/Y$48) -> 34.582686 | AA36: =SUM(Y36,W36,U36,S36,Q36,O36,M36,K36,I36,G36,E36,C36) -> 144480
A37: Consultant Pay | C37: =Assumptions!$D$114 -> 2064 | D37: =IF(C$48=0,"-",(C37*100)/C$48) -> 8.0287125 | E37: =Assumptions!$D$114 -> 2064 | F37: =IF(E$48=0,"-",(E37*100)/E$48) -> 7.9033399 | G37: =Assumptions!$D$114 -> 2064 | H37: =IF(G$48=0,"-",(G37*100)/G$48) -> 7.7722625 | I37: =Assumptions!$D$114 -> 2064 | J37: =IF(I$48=0,"-",(I37*100)/I$48) -> 6.0864055 | K37: =Assumptions!$D$114 -> 2064 | L37: =IF(K$48=0,"-",(K37*100)/K$48) -> 5.9955797 | M37: =Assumptions!$D$114 -> 2064 | N37: =IF(M$48=0,"-",(M37*100)/M$48) -> 5.9004842 | O37: =Assumptions!$D$114 -> 2064 | P37: =IF(O$48=0,"-",(O37*100)/O$48) -> 5.8011123 | Q37: =Assumptions!$D$114 -> 2064 | R37: =IF(Q$48=0,"-",(Q37*100)/Q$48) -> 5.6974829 | S37: =Assumptions!$D$114 -> 2064 | T37: =IF(S$48=0,"-",(S37*100)/S$48) -> 5.589643 | U37: =Assumptions!$D$114 -> 2064 | V37: =IF(U$48=0,"-",(U37*100)/U$48) -> 5.4776693 | W37: =Assumptions!$D$114 -> 2064 | X37: =IF(W$48=0,"-",(W37*100)/W$48) -> 5.3616699 | Y37: =Assumptions!$D$114 -> 2064 | Z37: =IF(Y$48=0,"-",(Y37*100)/Y$48) -> 5.1874029 | AA37: =SUM(Y37,W37,U37,S37,Q37,O37,M37,K37,I37,G37,E37,C37) -> 24768
A38: Office Manager Pay | C38: =Assumptions!$D$117 -> 3350 | D38: =IF(C$48=0,"-",(C38*100)/C$48) -> 13.031098 | E38: =Assumptions!$D$117 -> 3350 | F38: =IF(E$48=0,"-",(E38*100)/E$48) -> 12.827611 | G38: =Assumptions!$D$117 -> 3350 | H38: =IF(G$48=0,"-",(G38*100)/G$48) -> 12.614864 | I38: =Assumptions!$D$117 -> 3350 | J38: =IF(I$48=0,"-",(I38*100)/I$48) -> 9.8786136 | K38: =Assumptions!$D$117 -> 3350 | L38: =IF(K$48=0,"-",(K38*100)/K$48) -> 9.7311976 | M38: =Assumptions!$D$117 -> 3350 | N38: =IF(M$48=0,"-",(M38*100)/M$48) -> 9.5768518 | O38: =Assumptions!$D$117 -> 3350 | P38: =IF(O$48=0,"-",(O38*100)/O$48) -> 9.415565 | Q38: =Assumptions!$D$117 -> 3350 | R38: =IF(Q$48=0,"-",(Q38*100)/Q$48) -> 9.2473681 | S38: =Assumptions!$D$117 -> 3350 | T38: =IF(S$48=0,"-",(S38*100)/S$48) -> 9.0723372 | U38: =Assumptions!$D$117 -> 3350 | V38: =IF(U$48=0,"-",(U38*100)/U$48) -> 8.890597 | W38: =Assumptions!$D$117 -> 3350 | X38: =IF(W$48=0,"-",(W38*100)/W$48) -> 8.7023228 | Y38: =Assumptions!$D$117 -> 3350 | Z38: =IF(Y$48=0,"-",(Y38*100)/Y$48) -> 8.4194767 | AA38: =SUM(Y38,W38,U38,S38,Q38,O38,M38,K38,I38,G38,E38,C38) -> 40200
A39: Misc Office expenses | C39: =Assumptions!$D90 -> 1000 | D39: =IF(C$48=0,"-",(C39*100)/C$48) -> 3.8898801 | E39: =Assumptions!$D90 -> 1000 | F39: =IF(E$48=0,"-",(E39*100)/E$48) -> 3.8291376 | G39: =Assumptions!$D90 -> 1000 | H39: =IF(G$48=0,"-",(G39*100)/G$48) -> 3.765631 | I39: =Assumptions!$D90 -> 1000 | J39: =IF(I$48=0,"-",(I39*100)/I$48) -> 2.9488399 | K39: =Assumptions!$D90 -> 1000 | L39: =IF(K$48=0,"-",(K39*100)/K$48) -> 2.9048351 | M39: =Assumptions!$D90 -> 1000 | N39: =IF(M$48=0,"-",(M39*100)/M$48) -> 2.8587617 | O39: =Assumptions!$D90 -> 1000 | P39: =IF(O$48=0,"-",(O39*100)/O$48) -> 2.8106164 | Q39: =Assumptions!$D90 -> 1000 | R39: =IF(Q$48=0,"-",(Q39*100)/Q$48) -> 2.7604084 | S39: =Assumptions!$D90 -> 1000 | T39: =IF(S$48=0,"-",(S39*100)/S$48) -> 2.7081604 | U39: =Assumptions!$D90 -> 1000 | V39: =IF(U$48=0,"-",(U39*100)/U$48) -> 2.6539095 | W39: =Assumptions!$D90 -> 1000 | X39: =IF(W$48=0,"-",(W39*100)/W$48) -> 2.5977083 | Y39: =Assumptions!$D90 -> 1000 | Z39: =IF(Y$48=0,"-",(Y39*100)/Y$48) -> 2.5132766 | AA39: =SUM(Y39,W39,U39,S39,Q39,O39,M39,K39,I39,G39,E39,C39) -> 12000
A40: Advertising | C40: =Assumptions!$D88*C17 -> 1699.2 | D40: =IF(C$48=0,"-",(C40*100)/C$48) -> 6.6096842 | E40: =Assumptions!$D88*E17 -> 1835.136 | F40: =IF(E$48=0,"-",(E40*100)/E$48) -> 7.0269882 | G40: =Assumptions!$D88*G17 -> 1981.9469 | H40: =IF(G$48=0,"-",(G40*100)/G$48) -> 7.4632807 | I40: =Assumptions!$D88*I17 -> 2140.5026 | J40: =IF(I$48=0,"-",(I40*100)/I$48) -> 6.3119995 | K40: =Assumptions!$D88*K17 -> 2311.7428 | L40: =IF(K$48=0,"-",(K40*100)/K$48) -> 6.7152318 | M40: =Assumptions!$D88*M17 -> 2496.6823 | N40: =IF(M$48=0,"-",(M40*100)/M$48) -> 7.1374197 | O40: =Assumptions!$D88*O17 -> 2696.4168 | P40: =IF(O$48=0,"-",(O40*100)/O$48) -> 7.5785934 | Q40: =Assumptions!$D88*Q17 -> 2912.1302 | R40: =IF(Q$48=0,"-",(Q40*100)/Q$48) -> 8.0386686 | S40: =Assumptions!$D88*S17 -> 3145.1006 | T40: =IF(S$48=0,"-",(S40*100)/S$48) -> 8.5174368 | U40: =Assumptions!$D88*U17 -> 3396.7087 | V40: =IF(U$48=0,"-",(U40*100)/U$48) -> 9.0145576 | W40: =Assumptions!$D88*W17 -> 3668.4454 | X40: =IF(W$48=0,"-",(W40*100)/W$48) -> 9.5295509 | Y40: =Assumptions!$D88*Y17 -> 3961.921 | Z40: =IF(Y$48=0,"-",(Y40*100)/Y$48) -> 9.9574034 | AA40: =SUM(Y40,W40,U40,S40,Q40,O40,M40,K40,I40,G40,E40,C40) -> 32245.933
A41: Rent | C41: =Assumptions!$D81 -> 2083.3333 | D41: =IF(C$48=0,"-",(C41*100)/C$48) -> 8.1039168 | E41: =Assumptions!$D81 -> 2083.3333 | F41: =IF(E$48=0,"-",(E41*100)/E$48) -> 7.9773699 | G41: =Assumptions!$D81 -> 2083.3333 | H41: =IF(G$48=0,"-",(G41*100)/G$48) -> 7.8450647 | I41: =Assumptions!$D81 -> 2083.3333 | J41: =IF(I$48=0,"-",(I41*100)/I$48) -> 6.1434164 | K41: =Assumptions!$D81 -> 2083.3333 | L41: =IF(K$48=0,"-",(K41*100)/K$48) -> 6.0517398 | M41: =Assumptions!$D81 -> 2083.3333 | N41: =IF(M$48=0,"-",(M41*100)/M$48) -> 5.9557536 | O41: =Assumptions!$D81 -> 2083.3333 | P41: =IF(O$48=0,"-",(O41*100)/O$48) -> 5.8554508 | Q41: =Assumptions!$D81 -> 2083.3333 | R41: =IF(Q$48=0,"-",(Q41*100)/Q$48) -> 5.7508508 | S41: =Assumptions!$D81 -> 2083.3333 | T41: =IF(S$48=0,"-",(S41*100)/S$48) -> 5.6420008 | U41: =Assumptions!$D81 -> 2083.3333 | V41: =IF(U$48=0,"-",(U41*100)/U$48) -> 5.5289782 | W41: =Assumptions!$D81 -> 2083.3333 | X41: =IF(W$48=0,"-",(W41*100)/W$48) -> 5.4118923 | Y41: =Assumptions!$D81 -> 2083.3333 | Z41: =IF(Y$48=0,"-",(Y41*100)/Y$48) -> 5.235993 | AA41: =SUM(Y41,W41,U41,S41,Q41,O41,M41,K41,I41,G41,E41,C41) -> 25000
A42: Communication | C42: =Assumptions!$D86 -> 600 | D42: =IF(C$48=0,"-",(C42*100)/C$48) -> 2.3339281 | E42: =Assumptions!$D86 -> 600 | F42: =IF(E$48=0,"-",(E42*100)/E$48) -> 2.2974825 | G42: =Assumptions!$D86 -> 600 | H42: =IF(G$48=0,"-",(G42*100)/G$48) -> 2.2593786 | I42: =Assumptions!$D86 -> 600 | J42: =IF(I$48=0,"-",(I42*100)/I$48) -> 1.7693039 | K42: =Assumptions!$D86 -> 600 | L42: =IF(K$48=0,"-",(K42*100)/K$48) -> 1.7429011 | M42: =Assumptions!$D86 -> 600 | N42: =IF(M$48=0,"-",(M42*100)/M$48) -> 1.715257 | O42: =Assumptions!$D86 -> 600 | P42: =IF(O$48=0,"-",(O42*100)/O$48) -> 1.6863698 | Q42: =Assumptions!$D86 -> 600 | R42: =IF(Q$48=0,"-",(Q42*100)/Q$48) -> 1.656245 | S42: =Assumptions!$D86 -> 600 | T42: =IF(S$48=0,"-",(S42*100)/S$48) -> 1.6248962 | U42: =Assumptions!$D86 -> 600 | V42: =IF(U$48=0,"-",(U42*100)/U$48) -> 1.5923457 | W42: =Assumptions!$D86 -> 600 | X42: =IF(W$48=0,"-",(W42*100)/W$48) -> 1.558625 | Y42: =Assumptions!$D86 -> 600 | Z42: =IF(Y$48=0,"-",(Y42*100)/Y$48) -> 1.507966 | AA42: =SUM(Y42,W42,U42,S42,Q42,O42,M42,K42,I42,G42,E42,C42) -> 7200
A43: Utilities | C43: =Assumptions!$D82 -> 500 | D43: =IF(C$48=0,"-",(C43*100)/C$48) -> 1.94494 | E43: =Assumptions!$D82 -> 500 | F43: =IF(E$48=0,"-",(E43*100)/E$48) -> 1.9145688 | G43: =Assumptions!$D82 -> 500 | H43: =IF(G$48=0,"-",(G43*100)/G$48) -> 1.8828155 | I43: =Assumptions!$D82 -> 500 | J43: =IF(I$48=0,"-",(I43*100)/I$48) -> 1.4744199 | K43: =Assumptions!$D82 -> 500 | L43: =IF(K$48=0,"-",(K43*100)/K$48) -> 1.4524176 | M43: =Assumptions!$D82 -> 500 | N43: =IF(M$48=0,"-",(M43*100)/M$48) -> 1.4293809 | O43: =Assumptions!$D82 -> 500 | P43: =IF(O$48=0,"-",(O43*100)/O$48) -> 1.4053082 | Q43: =Assumptions!$D82 -> 500 | R43: =IF(Q$48=0,"-",(Q43*100)/Q$48) -> 1.3802042 | S43: =Assumptions!$D82 -> 500 | T43: =IF(S$48=0,"-",(S43*100)/S$48) -> 1.3540802 | U43: =Assumptions!$D82 -> 500 | V43: =IF(U$48=0,"-",(U43*100)/U$48) -> 1.3269548 | W43: =Assumptions!$D82 -> 500 | X43: =IF(W$48=0,"-",(W43*100)/W$48) -> 1.2988541 | Y43: =Assumptions!$D82 -> 500 | Z43: =IF(Y$48=0,"-",(Y43*100)/Y$48) -> 1.2566383 | AA43: =SUM(Y43,W43,U43,S43,Q43,O43,M43,K43,I43,G43,E43,C43) -> 6000
A44: Insurance | C44: =Assumptions!$D89 -> 1500 | D44: =IF(C$48=0,"-",(C44*100)/C$48) -> 5.8348201 | E44: =Assumptions!$D89 -> 1500 | F44: =IF(E$48=0,"-",(E44*100)/E$48) -> 5.7437063 | G44: =Assumptions!$D89 -> 1500 | H44: =IF(G$48=0,"-",(G44*100)/G$48) -> 5.6484466 | I44: =Assumptions!$D89 -> 1500 | J44: =IF(I$48=0,"-",(I44*100)/I$48) -> 4.4232598 | K44: =Assumptions!$D89 -> 1500 | L44: =IF(K$48=0,"-",(K44*100)/K$48) -> 4.3572527 | M44: =Assumptions!$D89 -> 1500 | N44: =IF(M$48=0,"-",(M44*100)/M$48) -> 4.2881426 | O44: =Assumptions!$D89 -> 1500 | P44: =IF(O$48=0,"-",(O44*100)/O$48) -> 4.2159246 | Q44: =Assumptions!$D89 -> 1500 | R44: =IF(Q$48=0,"-",(Q44*100)/Q$48) -> 4.1406126 | S44: =Assumptions!$D89 -> 1500 | T44: =IF(S$48=0,"-",(S44*100)/S$48) -> 4.0622405 | U44: =Assumptions!$D89 -> 1500 | V44: =IF(U$48=0,"-",(U44*100)/U$48) -> 3.9808643 | W44: =Assumptions!$D89 -> 1500 | X44: =IF(W$48=0,"-",(W44*100)/W$48) -> 3.8965624 | Y44: =Assumptions!$D89 -> 1500 | Z44: =IF(Y$48=0,"-",(Y44*100)/Y$48) -> 3.7699149 | AA44: =SUM(Y44,W44,U44,S44,Q44,O44,M44,K44,I44,G44,E44,C44) -> 18000
A45: Cleaning Service | C45: =Assumptions!$D93 -> 500 | D45: =IF(C$48=0,"-",(C45*100)/C$48) -> 1.94494 | E45: =Assumptions!$D93 -> 500 | F45: =IF(E$48=0,"-",(E45*100)/E$48) -> 1.9145688 | G45: =Assumptions!$D93 -> 500 | H45: =IF(G$48=0,"-",(G45*100)/G$48) -> 1.8828155 | I45: =Assumptions!$D93 -> 500 | J45: =IF(I$48=0,"-",(I45*100)/I$48) -> 1.4744199 | K45: =Assumptions!$D93 -> 500 | L45: =IF(K$48=0,"-",(K45*100)/K$48) -> 1.4524176 | M45: =Assumptions!$D93 -> 500 | N45: =IF(M$48=0,"-",(M45*100)/M$48) -> 1.4293809 | O45: =Assumptions!$D93 -> 500 | P45: =IF(O$48=0,"-",(O45*100)/O$48) -> 1.4053082 | Q45: =Assumptions!$D93 -> 500 | R45: =IF(Q$48=0,"-",(Q45*100)/Q$48) -> 1.3802042 | S45: =Assumptions!$D93 -> 500 | T45: =IF(S$48=0,"-",(S45*100)/S$48) -> 1.3540802 | U45: =Assumptions!$D93 -> 500 | V45: =IF(U$48=0,"-",(U45*100)/U$48) -> 1.3269548 | W45: =Assumptions!$D93 -> 500 | X45: =IF(W$48=0,"-",(W45*100)/W$48) -> 1.2988541 | Y45: =Assumptions!$D93 -> 500 | Z45: =IF(Y$48=0,"-",(Y45*100)/Y$48) -> 1.2566383 | AA45: =SUM(Y45,W45,U45,S45,Q45,O45,M45,K45,I45,G45,E45,C45) -> 6000
...

Sheet Cash Flow
A1: Cash Flow Projection (12 Months)
A2: Enter your Company Name here
A3: ONLY Change data in yellow boxes)
A5: Fiscal Year Begins
A6: 40909
D8: =A6 -> 40909 | F8: =DATE(YEAR(A6),MONTH(A6)+1,1) -> 40940 | H8: =DATE(YEAR(F8),MONTH(F8)+1,1) -> 40969 | J8: =DATE(YEAR(H8),MONTH(H8)+1,1) -> 41000 | L8: =DATE(YEAR(J8),MONTH(J8)+1,1) -> 41030 | N8: =DATE(YEAR(L8),MONTH(L8)+1,1) -> 41061 | P8: =DATE(YEAR(N8),MONTH(N8)+1,1) -> 41091 | R8: =DATE(YEAR(P8),MONTH(P8)+1,1) -> 41122 | T8: =DATE(YEAR(R8),MONTH(R8)+1,1) -> 41153 | V8: =DATE(YEAR(T8),MONTH(T8)+1,1) -> 41183 | X8: =DATE(YEAR(V8),MONTH(V8)+1,1) -> 41214 | Z8: =DATE(YEAR(X8),MONTH(X8)+1,1) -> 41244 | AB8: YEARLY
A9: Initial Investment | B9: =Assumptions!D76 -> 169700
A11: Revenue (Sales)
A12: Botox | D12: =Assumptions!D135*Assumptions!D156*Assumptions!D164 -> 10620 | F12: =D12*Assumptions!$G$139 -> 11469.6 | H12: =F12*Assumptions!$G$139 -> 12387.168 | J12: =H12*Assumptions!$G$139 -> 13378.141 | L12: =J12*Assumptions!$G$139 -> 14448.393 | N12: =L12*Assumptions!$G$139 -> 15604.264 | P12: =N12*Assumptions!$G$139 -> 16852.605 | R12: =P12*Assumptions!$G$139 -> 18200.814 | T12: =R12*Assumptions!$G$139 -> 19656.879 | V12: =T12*Assumptions!$G$139 -> 21229.429 | X12: =V12*Assumptions!$G$139 -> 22927.783 | Z12: =X12*Assumptions!$G$139 -> 24762.006 | AB12: =SUM(Z12,X12,V12,T12,R12,P12,N12,L12,J12,H12,F12,D12) -> 201537.08
A13: Filler | D13: =Assumptions!D135*Assumptions!D165*Assumptions!D156 -> 7080 | F13: =D13*Assumptions!$G$139 -> 7646.4 | H13: =F13*Assumptions!$G$139 -> 8258.112 | J13: =H13*Assumptions!$G$139 -> 8918.761 | L13: =J13*Assumptions!$G$139 -> 9632.2618 | N13: =L13*Assumptions!$G$139 -> 10402.843 | P13: =N13*Assumptions!$G$139 -> 11235.07 | R13: =P13*Assumptions!$G$139 -> 12133.876 | T13: =R13*Assumptions!$G$139 -> 13104.586 | V13: =T13*Assumptions!$G$139 -> 14152.953 | X13: =V13*Assumptions!$G$139 -> 15285.189 | Z13: =X13*Assumptions!$G$139 -> 16508.004 | AB13: =SUM(Z13,X13,V13,T13,R13,P13,N13,L13,J13,H13,F13,D13) -> 134358.06
A14: Sclero | D14: =Assumptions!D166*Assumptions!D154*Assumptions!D135 -> 1416 | F14: =D14*Assumptions!$G$139 -> 1529.28 | H14: =F14*Assumptions!$G$139 -> 1651.6224 | J14: =H14*Assumptions!$G$139 -> 1783.7522 | L14: =J14*Assumptions!$G$139 -> 1926.4524 | N14: =L14*Assumptions!$G$139 -> 2080.5686 | P14: =N14*Assumptions!$G$139 -> 2247.014 | R14: =P14*Assumptions!$G$139 -> 2426.7752 | T14: =R14*Assumptions!$G$139 -> 2620.9172 | V14: =T14*Assumptions!$G$139 -> 2830.5906 | X14: =V14*Assumptions!$G$139 -> 3057.0378 | Z14: =X14*Assumptions!$G$139 -> 3301.6008 | AB14: =SUM(Z14,X14,V14,T14,R14,P14,N14,L14,J14,H14,F14,D14) -> 26871.611
A15: Laser Hair | D15: =Assumptions!D135*Assumptions!D153*Assumptions!D149*Assumptions!D167 -> 9558 | F15: =D15*Assumptions!$G$139 -> 10322.64 | H15: =F15*Assumptions!$G$139 -> 11148.451 | J15: =H15*Assumptions!$G$139 -> 12040.327 | L15: =J15*Assumptions!$G$139 -> 13003.553 | N15: =L15*Assumptions!$G$139 -> 14043.838 | P15: =N15*Assumptions!$G$139 -> 15167.345 | R15: =P15*Assumptions!$G$139 -> 16380.732 | T15: =R15*Assumptions!$G$139 -> 17691.191 | V15: =T15*Assumptions!$G$139 -> 19106.486 | X15: =V15*Assumptions!$G$139 -> 20635.005 | Z15: =X15*Assumptions!$G$139 -> 22285.806 | AB15: =SUM(Z15,X15,V15,T15,R15,P15,N15,L15,J15,H15,F15,D15) -> 181383.37
A16: IPL | D16: =Assumptions!D168*Assumptions!D153*Assumptions!D135*Assumptions!D150 -> 3186 | F16: =D16*Assumptions!$G$139 -> 3440.88 | H16: =F16*Assumptions!$G$139 -> 3716.1504 | J16: =H16*Assumptions!$G$139 -> 4013.4424 | L16: =J16*Assumptions!$G$139 -> 4334.5178 | N16: =L16*Assumptions!$G$139 -> 4681.2793 | P16: =N16*Assumptions!$G$139 -> 5055.7816 | R16: =P16*Assumptions!$G$139 -> 5460.2441 | T16: =R16*Assumptions!$G$139 -> 5897.0636 | V16: =T16*Assumptions!$G$139 -> 6368.8287 | X16: =V16*Assumptions!$G$139 -> 6878.335 | Z16: =X16*Assumptions!$G$139 -> 7428.6018 | AB16: =SUM(Z16,X16,V16,T16,R16,P16,N16,L16,J16,H16,F16,D16) -> 60461.125
A17: Facial/Microderm | D17: =Assumptions!D135*Assumptions!D155*Assumptions!D169 -> 1416 | F17: =D17*Assumptions!$G$139 -> 1529.28 | H17: =F17*Assumptions!$G$139 -> 1651.6224 | J17: =H17*Assumptions!$G$139 -> 1783.7522 | L17: =J17*Assumptions!$G$139 -> 1926.4524 | N17: =L17*Assumptions!$G$139 -> 2080.5686 | P17: =N17*Assumptions!$G$139 -> 2247.014 | R17: =P17*Assumptions!$G$139 -> 2426.7752 | T17: =R17*Assumptions!$G$139 -> 2620.9172 | V17: =T17*Assumptions!$G$139 -> 2830.5906 | X17: =V17*Assumptions!$G$139 -> 3057.0378 | Z17: =X17*Assumptions!$G$139 -> 3301.6008 | AB17: =SUM(Z17,X17,V17,T17,R17,P17,N17,L17,J17,H17,F17,D17) -> 26871.611
A18: Product | D18: =Assumptions!D135*Assumptions!D158*Assumptions!D159 -> 708 | F18: =D18*Assumptions!$G$139 -> 764.64 | H18: =F18*Assumptions!$G$139 -> 825.8112 | J18: =H18*Assumptions!$G$139 -> 891.8761 | L18: =J18*Assumptions!$G$139 -> 963.22618 | N18: =L18*Assumptions!$G$139 -> 1040.2843 | P18: =N18*Assumptions!$G$139 -> 1123.507 | R18: =P18*Assumptions!$G$139 -> 1213.3876 | T18: =R18*Assumptions!$G$139 -> 1310.4586 | V18: =T18*Assumptions!$G$139 -> 1415.2953 | X18: =V18*Assumptions!$G$139 -> 1528.5189 | Z18: =X18*Assumptions!$G$139 -> 1650.8004 | AB18: =SUM(Z18,X18,V18,T18,R18,P18,N18,L18,J18,H18,F18,D18) -> 13435.806
A19: Total Revenue (Sales) | D19: =SUM(D12:D18) -> 33984 | F19: =SUM(F12:F18) -> 36702.72 | H19: =SUM(H12:H18) -> 39638.938 | J19: =SUM(J12:J18) -> 42810.053 | L19: =SUM(L12:L18) -> 46234.857 | N19: =SUM(N12:N18) -> 49933.645 | P19: =SUM(P12:P18) -> 53928.337 | R19: =SUM(R12:R18) -> 58242.604 | T19: =SUM(T12:T18) -> 62902.012 | V19: =SUM(V12:V18) -> 67934.173 | X19: =SUM(X12:X18) -> 73368.907 | Z19: =SUM(Z12:Z18) -> 79238.42 | AB19: =SUM(AB12:AB18) -> 644918.67
A20: Unearned Income * | D20: =(D$15*0.83)+(D$16*0.83) -> 10577.52 | F20: =(F$15*0.83)+(F$16*0.83)+(D20*0.83) -> 20203.063 | H20: =(H$15*0.83)+(H$16*0.83)+(F20*0.83) -> 29106.162 | J20: =(J$15*0.83)+(J$16*0.83)+(H20*0.83) -> 37482.743 | L20: =(L$15*0.83)+(L$16*0.83)+(J20*0.83) -> 45501.276 | N20: =(N$15*0.83)+(N$16*0.83)+(L20*0.83) -> 53307.906 | P20: =(P$15*0.83)+(P$16*0.83)+(N20*0.83) -> 61030.757 | R20: =(R$15*0.83)+(R$16*0.83)+(P20*0.83) -> 68783.539 | T20: =(T$15*0.83)+(T$16*0.83)+(R20*0.83) -> 76668.589 | V20: =(V$15*0.83)+(V$16*0.83)+(T20*0.83) -> 84779.44 | X20: =(X$15*0.83)+(X$16*0.83)+(V20*0.83) -> 93203.007 | Z20: =(Z$15*0.83)+(Z$16*0.83)+(X20*0.83) -> 102021.45
B21: * Income unearned because laser hair and ipl was presold in a package of 6
A22: Cost of Sales
A23: Botox | D23: =D12*Assumptions!D126 -> 5310 | F23: =D23*Assumptions!$G$139 -> 5734.8 | H23: =F23*Assumptions!$G$139 -> 6193.584 | J23: =H23*Assumptions!$G$139 -> 6689.0707 | L23: =J23*Assumptions!$G$139 -> 7224.1964 | N23: =L23*Assumptions!$G$139 -> 7802.1321 | P23: =N23*Assumptions!$G$139 -> 8426.3027 | R23: =P23*Assumptions!$G$139 -> 9100.4069 | T23: =R23*Assumptions!$G$139 -> 9828.4394 | V23: =T23*Assumptions!$G$139 -> 10614.715 | X23: =V23*Assumptions!$G$139 -> 11463.892 | Z23: =X23*Assumptions!$G$139 -> 12381.003 | AB23: =SUM(Z23,X23,V23,T23,R23,P23,N23,L23,J23,H23,F23,D23) -> 100768.54
A24: Filler | D24: =Assumptions!D126*D13 -> 3540 | F24: =D24*Assumptions!$G$139 -> 3823.2 | H24: =F24*Assumptions!$G$139 -> 4129.056 | J24: =H24*Assumptions!$G$139 -> 4459.3805 | L24: =J24*Assumptions!$G$139 -> 4816.1309 | N24: =L24*Assumptions!$G$139 -> 5201.4214 | P24: =N24*Assumptions!$G$139 -> 5617.5351 | R24: =P24*Assumptions!$G$139 -> 6066.9379 | T24: =R24*Assumptions!$G$139 -> 6552.2929 | V24: =T24*Assumptions!$G$139 -> 7076.4764 | X24: =V24*Assumptions!$G$139 -> 7642.5945 | Z24: =X24*Assumptions!$G$139 -> 8254.002 | AB24: =SUM(Z24,X24,V24,T24,R24,P24,N24,L24,J24,H24,F24,D24) -> 67179.028
A25: Sclero | D25: =Assumptions!D127*D14 -> 28.32 | F25: =D25*Assumptions!$G$139 -> 30.5856 | H25: =F25*Assumptions!$G$139 -> 33.032448 | J25: =H25*Assumptions!$G$139 -> 35.675044 | L25: =J25*Assumptions!$G$139 -> 38.529047 | N25: =L25*Assumptions!$G$139 -> 41.611371 | P25: =N25*Assumptions!$G$139 -> 44.940281 | R25: =P25*Assumptions!$G$139 -> 48.535503 | T25: =R25*Assumptions!$G$139 -> 52.418344 | V25: =T25*Assumptions!$G$139 -> 56.611811 | X25: =V25*Assumptions!$G$139 -> 61.140756 | Z25: =X25*Assumptions!$G$139 -> 66.032016 | AB25: =SUM(Z25,X25,V25,T25,R25,P25,N25,L25,J25,H25,F25,D25) -> 537.43222
A26: Laser Hair | D26: =Assumptions!D128*D15 -> 191.16 | F26: =D26*Assumptions!$G$139 -> 206.4528 | H26: =F26*Assumptions!$G$139 -> 222.96902 | J26: =H26*Assumptions!$G$139 -> 240.80655 | L26: =J26*Assumptions!$G$139 -> 260.07107 | N26: =L26*Assumptions!$G$139 -> 280.87676 | P26: =N26*Assumptions!$G$139 -> 303.3469 | R26: =P26*Assumptions!$G$139 -> 327.61465 | T26: =R26*Assumptions!$G$139 -> 353.82382 | V26: =T26*Assumptions!$G$139 -> 382.12972 | X26: =V26*Assumptions!$G$139 -> 412.7001 | Z26: =X26*Assumptions!$G$139 -> 445.71611 | AB26: =SUM(Z26,X26,V26,T26,R26,P26,N26,L26,J26,H26,F26,D26) -> 3627.6675
A27: IPL | D27: =Assumptions!D128*D16 -> 63.72 | F27: =D27*Assumptions!$G$139 -> 68.8176 | H27: =F27*Assumptions!$G$139 -> 74.323008 | J27: =H27*Assumptions!$G$139 -> 80.268849 | L27: =J27*Assumptions!$G$139 -> 86.690357 | N27: =L27*Assumptions!$G$139 -> 93.625585 | P27: =N27*Assumptions!$G$139 -> 101.11563 | R27: =P27*Assumptions!$G$139 -> 109.20488 | T27: =R27*Assumptions!$G$139 -> 117.94127 | V27: =T27*Assumptions!$G$139 -> 127.37657 | X27: =V27*Assumptions!$G$139 -> 137.5667 | Z27: =X27*Assumptions!$G$139 -> 148.57204 | AB27: =SUM(Z27,X27,V27,T27,R27,P27,N27,L27,J27,H27,F27,D27) -> 1209.2225
A28: Facial/Microderm | D28: =Assumptions!D129*D17 -> 70.8 | F28: =D28*Assumptions!$G$139 -> 76.464 | H28: =F28*Assumptions!$G$139 -> 82.58112 | J28: =H28*Assumptions!$G$139 -> 89.18761 | L28: =J28*Assumptions!$G$139 -> 96.322618 | N28: =L28*Assumptions!$G$139 -> 104.02843 | P28: =N28*Assumptions!$G$139 -> 112.3507 | R28: =P28*Assumptions!$G$139 -> 121.33876 | T28: =R28*Assumptions!$G$139 -> 131.04586 | V28: =T28*Assumptions!$G$139 -> 141.52953 | X28: =V28*Assumptions!$G$139 -> 152.85189 | Z28: =X28*Assumptions!$G$139 -> 165.08004 | AB28: =SUM(Z28,X28,V28,T28,R28,P28,N28,L28,J28,H28,F28,D28) -> 1343.5806
A29: Product | D29: =Assumptions!D130*D18 -> 354 | F29: =D29*Assumptions!$G$139 -> 382.32 | H29: =F29*Assumptions!$G$139 -> 412.9056 | J29: =H29*Assumptions!$G$139 -> 445.93805 | L29: =J29*Assumptions!$G$139 -> 481.61309 | N29: =L29*Assumptions!$G$139 -> 520.14214 | P29: =N29*Assumptions!$G$139 -> 561.75351 | R29: =P29*Assumptions!$G$139 -> 606.69379 | T29: =R29*Assumptions!$G$139 -> 655.22929 | V29: =T29*Assumptions!$G$139 -> 707.64764 | X29: =V29*Assumptions!$G$139 -> 764.25945 | Z29: =X29*Assumptions!$G$139 -> 825.4002 | AB29: =SUM(Z29,X29,V29,T29,R29,P29,N29,L29,J29,H29,F29,D29) -> 6717.9028
A30: Total Cost of Sales | D30: =SUM(D23:D29) -> 9558 | F30: =SUM(F23:F29) -> 10322.64 | H30: =SUM(H23:H29) -> 11148.451 | J30: =SUM(J23:J29) -> 12040.327 | L30: =SUM(L23:L29) -> 13003.553 | N30: =SUM(N23:N29) -> 14043.838 | P30: =SUM(P23:P29) -> 15167.345 | R30: =SUM(R23:R29) -> 16380.732 | T30: =SUM(T23:T29) -> 17691.191 | V30: =SUM(V23:V29) -> 19106.486 | X30: =SUM(X23:X29) -> 20635.005 | Z30: =SUM(Z23:Z29) -> 22285.806 | AB30: =SUM(AB23:AB29) -> 181383.37
A32: Gross Profit | D32: =D19-D30 -> 24426 | F32: =F19-F30 -> 26380.08 | H32: =H19-H30 -> 28490.486 | J32: =J19-J30 -> 30769.725 | L32: =L19-L30 -> 33231.303 | N32: =N19-N30 -> 35889.808 | P32: =P19-P30 -> 38760.992 | R32: =R19-R30 -> 41861.872 | T32: =T19-T30 -> 45210.821 | V32: =V19-V30 -> 48827.687 | X32: =X19-X30 -> 52733.902 | Z32: =Z19-Z30 -> 56952.614 | AB32: =AB19-AB30 -> 463535.29
A35: Expenses
A36: Receptionist Pay | D36: =Assumptions!$D$97 -> 1720 | F36: =Assumptions!$D$97 -> 1720 | H36: =Assumptions!$D$97 -> 1720 | J36: =Assumptions!$D$97 -> 1720 | L36: =Assumptions!$D$97 -> 1720 | N36: =Assumptions!$D$97 -> 1720 | P36: =Assumptions!$D$97 -> 1720 | R36: =Assumptions!$D$97 -> 1720 | T36: =Assumptions!$D$97 -> 1720 | V36: =Assumptions!$D$97 -> 1720 | X36: =Assumptions!$D$97 -> 1720 | Z36: =Assumptions!$D$97 -> 1720 | AB36: =SUM(Z36,X36,V36,T36,R36,P36,N36,L36,J36,H36,F36,D36) -> 20640
A37: Aesthetician Pay | D37: =Assumptions!$D$103 -> 412.8 | F37: =Assumptions!$D$103 -> 412.8 | H37: =Assumptions!$D$103 -> 412.8 | J37: =Assumptions!$D$103 -> 412.8 | L37: =Assumptions!$D$103 -> 412.8 | N37: =Assumptions!$D$103 -> 412.8 | P37: =Assumptions!$D$103 -> 412.8 | R37: =Assumptions!$D$103 -> 412.8 | T37: =Assumptions!$D$103 -> 412.8 | V37: =Assumptions!$D$103 -> 412.8 | X37: =Assumptions!$D$103 -> 412.8 | Z37: =Assumptions!$D$103*2 -> 825.6 | AB37: =SUM(Z37,X37,V37,T37,R37,P37,N37,L37,J37,H37,F37,D37) -> 5366.4
A38: PA/NP Pay | D38: =Assumptions!$D$109 -> 6880 | F38: =Assumptions!$D$109 -> 6880 | H38: =Assumptions!$D$109 -> 6880 | J38: =Assumptions!$D$109*2 -> 13760 | L38: =Assumptions!$D$109*2 -> 13760 | N38: =Assumptions!$D$109*2 -> 13760 | P38: =Assumptions!$D$109*2 -> 13760 | R38: =Assumptions!$D$109*2 -> 13760 | T38: =Assumptions!$D$109*2 -> 13760 | V38: =Assumptions!$D$109*2 -> 13760 | X38: =Assumptions!$D$109*2 -> 13760 | Z38: =Assumptions!$D$109*2 -> 13760 | AB38: =SUM(Z38,X38,V38,T38,R38,P38,N38,L38,J38,H38,F38,D38) -> 144480
A39: Consultant Pay | D39: =Assumptions!$D$114 -> 2064 | F39: =Assumptions!$D$114 -> 2064 | H39: =Assumptions!$D$114 -> 2064 | J39: =Assumptions!$D$114 -> 2064 | L39: =Assumptions!$D$114 -> 2064 | N39: =Assumptions!$D$114 -> 2064 | P39: =Assumptions!$D$114 -> 2064 | R39: =Assumptions!$D$114 -> 2064 | T39: =Assumptions!$D$114 -> 2064 | V39: =Assumptions!$D$114 -> 2064 | X39: =Assumptions!$D$114 -> 2064 | Z39: =Assumptions!$D$114 -> 2064 | AB39: =SUM(Z39,X39,V39,T39,R39,P39,N39,L39,J39,H39,F39,D39) -> 24768
A40: Office Manager Pay | D40: =Assumptions!$D$117 -> 3350 | F40: =Assumptions!$D$117 -> 3350 | H40: =Assumptions!$D$117 -> 3350 | J40: =Assumptions!$D$117 -> 3350 | L40: =Assumptions!$D$117 -> 3350 | N40: =Assumptions!$D$117 -> 3350 | P40: =Assumptions!$D$117 -> 3350 | R40: =Assumptions!$D$117 -> 3350 | T40: =Assumptions!$D$117 -> 3350 | V40: =Assumptions!$D$117 -> 3350 | X40: =Assumptions!$D$117 -> 3350 | Z40: =Assumptions!$D$117 -> 3350 | AB40: =SUM(Z40,X40,V40,T40,R40,P40,N40,L40,J40,H40,F40,D40) -> 40200
A41: Misc Office expenses | D41: =Assumptions!$D90 -> 1000 | F41: =Assumptions!$D90 -> 1000 | H41: =Assumptions!$D90 -> 1000 | J41: =Assumptions!$D90 -> 1000 | L41: =Assumptions!$D90 -> 1000 | N41: =Assumptions!$D90 -> 1000 | P41: =Assumptions!$D90 -> 1000 | R41: =Assumptions!$D90 -> 1000 | T41: =Assumptions!$D90 -> 1000 | V41: =Assumptions!$D90 -> 1000 | X41: =Assumptions!$D90 -> 1000 | Z41: =Assumptions!$D90 -> 1000 | AB41: =SUM(Z41,X41,V41,T41,R41,P41,N41,L41,J41,H41,F41,D41) -> 12000
A42: Advertising | D42: =Assumptions!$D88*D19 -> 1699.2 | F42: =Assumptions!$D88*F19 -> 1835.136 | H42: =Assumptions!$D88*H19 -> 1981.9469 | J42: =Assumptions!$D88*J19 -> 2140.5026 | L42: =Assumptions!$D88*L19 -> 2311.7428 | N42: =Assumptions!$D88*N19 -> 2496.6823 | P42: =Assumptions!$D88*P19 -> 2696.4168 | R42: =Assumptions!$D88*R19 -> 2912.1302 | T42: =Assumptions!$D88*T19 -> 3145.1006 | V42: =Assumptions!$D88*V19 -> 3396.7087 | X42: =Assumptions!$D88*X19 -> 3668.4454 | Z42: =Assumptions!$D88*Z19 -> 3961.921 | AB42: =SUM(Z42,X42,V42,T42,R42,P42,N42,L42,J42,H42,F42,D42) -> 32245.933
A43: Rent | D43: =Assumptions!$D81 -> 2083.3333 | F43: =Assumptions!$D81 -> 2083.3333 | H43: =Assumptions!$D81 -> 2083.3333 | J43: =Assumptions!$D81 -> 2083.3333 | L43: =Assumptions!$D81 -> 2083.3333 | N43: =Assumptions!$D81 -> 2083.3333 | P43: =Assumptions!$D81 -> 2083.3333 | R43: =Assumptions!$D81 -> 2083.3333 | T43: =Assumptions!$D81 -> 2083.3333 | V43: =Assumptions!$D81 -> 2083.3333 | X43: =Assumptions!$D81 -> 2083.3333 | Z43: =Assumptions!$D81 -> 2083.3333 | AB43: =SUM(Z43,X43,V43,T43,R43,P43,N43,L43,J43,H43,F43,D43) -> 25000
A44: Communication | D44: =Assumptions!$D86 -> 600 | F44: =Assumptions!$D86 -> 600 | H44: =Assumptions!$D86 -> 600 | J44: =Assumptions!$D86 -> 600 | L44: =Assumptions!$D86 -> 600 | N44: =Assumptions!$D86 -> 600 | P44: =Assumptions!$D86 -> 600 | R44: =Assumptions!$D86 -> 600 | T44: =Assumptions!$D86 -> 600 | V44: =Assumptions!$D86 -> 600 | X44: =Assumptions!$D86 -> 600 | Z44: =Assumptions!$D86 -> 600 | AB44: =SUM(Z44,X44,V44,T44,R44,P44,N44,L44,J44,H44,F44,D44) -> 7200
A45: Utilities | D45: =Assumptions!$D82 -> 500 | F45: =Assumptions!$D82 -> 500 | H45: =Assumptions!$D82 -> 500 | J45: =Assumptions!$D82 -> 500 | L45: =Assumptions!$D82 -> 500 | N45: =Assumptions!$D82 -> 500 | P45: =Assumptions!$D82 -> 500 | R45: =Assumptions!$D82 -> 500 | T45: =Assumptions!$D82 -> 500 | V45: =Assumptions!$D82 -> 500 | X45: =Assumptions!$D82 -> 500 | Z45: =Assumptions!$D82 -> 500 | AB45: =SUM(Z45,X45,V45,T45,R45,P45,N45,L45,J45,H45,F45,D45) -> 6000
A46: Insurance | D46: =Assumptions!$D89 -> 1500 | F46: =Assumptions!$D89 -> 1500 | H46: =Assumptions!$D89 -> 1500 | J46: =Assumptions!$D89 -> 1500 | L46: =Assumptions!$D89 -> 1500 | N46: =Assumptions!$D89 -> 1500 | P46: =Assumptions!$D89 -> 1500 | R46: =Assumptions!$D89 -> 1500 | T46: =Assumptions!$D89 -> 1500 | V46: =Assumptions!$D89 -> 1500 | X46: =Assumptions!$D89 -> 1500 | Z46: =Assumptions!$D89 -> 1500 | AB46: =SUM(Z46,X46,V46,T46,R46,P46,N46,L46,J46,H46,F46,D46) -> 18000
...

Sheet One Month P&L
A1: Profit and Loss Statement
A2: <Company Name>
A4: For the <Month or Year> ending <Month-Day-Year>
A6: Gross margin [L/J] | B6: =IF(D16=0,"-",D25/D16) -> -
A7: Return on sales [T/J] | B7: =IF(D16=0,"-",D71/D16) -> -
B9: Prior Period | C9: Goal / Budget | D9: Current Period | E9: Current Period as % of Sales | F9: % Change from Prior Period | G9: % Change from Goal / Budget
A11: Sales Revenue
A12: Product/Service 1 | E12: =IF($D$16=0,"-",D12/$D$16) -> - | F12: =IF(D12=0,"-",D12/B12-1) -> - | G12: =IF(D12=0,"-",D12/C12-1) -> -
A13: Product/Service 2 | E13: =IF($D$16=0,"-",D13/$D$16) -> - | F13: =IF(D13=0,"-",D13/B13-1) -> - | G13: =IF(D13=0,"-",D13/C13-1) -> -
A14: Product/Service 3 | E14: =IF($D$16=0,"-",D14/$D$16) -> - | F14: =IF(D14=0,"-",D14/B14-1) -> - | G14: =IF(D14=0,"-",D14/C14-1) -> -
